BEGIN:VCALENDAR
VERSION:2.0
PRODID:-//MERGE for Equality - ECPv6.15.13.1//NONSGML v1.0//EN
CALSCALE:GREGORIAN
METHOD:PUBLISH
X-WR-CALNAME:MERGE for Equality
X-ORIGINAL-URL:https://www.mergeforequality.org
X-WR-CALDESC:Events for MERGE for Equality
REFRESH-INTERVAL;VALUE=DURATION:PT1H
X-Robots-Tag:noindex
X-PUBLISHED-TTL:PT1H
BEGIN:VTIMEZONE
TZID:America/Halifax
BEGIN:DAYLIGHT
TZOFFSETFROM:-0400
TZOFFSETTO:-0300
TZNAME:ADT
DTSTART:20170312T060000
END:DAYLIGHT
BEGIN:STANDARD
TZOFFSETFROM:-0300
TZOFFSETTO:-0400
TZNAME:AST
DTSTART:20171105T050000
END:STANDARD
BEGIN:DAYLIGHT
TZOFFSETFROM:-0400
TZOFFSETTO:-0300
TZNAME:ADT
DTSTART:20180311T060000
END:DAYLIGHT
BEGIN:STANDARD
TZOFFSETFROM:-0300
TZOFFSETTO:-0400
TZNAME:AST
DTSTART:20181104T050000
END:STANDARD
BEGIN:DAYLIGHT
TZOFFSETFROM:-0400
TZOFFSETTO:-0300
TZNAME:ADT
DTSTART:20190310T060000
END:DAYLIGHT
BEGIN:STANDARD
TZOFFSETFROM:-0300
TZOFFSETTO:-0400
TZNAME:AST
DTSTART:20191103T050000
END:STANDARD
END:VTIMEZONE
BEGIN:VTIMEZONE
TZID:America/New_York
BEGIN:DAYLIGHT
TZOFFSETFROM:-0500
TZOFFSETTO:-0400
TZNAME:EDT
DTSTART:20170312T070000
END:DAYLIGHT
BEGIN:STANDARD
TZOFFSETFROM:-0400
TZOFFSETTO:-0500
TZNAME:EST
DTSTART:20171105T060000
END:STANDARD
BEGIN:DAYLIGHT
TZOFFSETFROM:-0500
TZOFFSETTO:-0400
TZNAME:EDT
DTSTART:20180311T070000
END:DAYLIGHT
BEGIN:STANDARD
TZOFFSETFROM:-0400
TZOFFSETTO:-0500
TZNAME:EST
DTSTART:20181104T060000
END:STANDARD
BEGIN:DAYLIGHT
TZOFFSETFROM:-0500
TZOFFSETTO:-0400
TZNAME:EDT
DTSTART:20190310T070000
END:DAYLIGHT
BEGIN:STANDARD
TZOFFSETFROM:-0400
TZOFFSETTO:-0500
TZNAME:EST
DTSTART:20191103T060000
END:STANDARD
END:VTIMEZONE
BEGIN:VEVENT
DTSTART;VALUE=DATE:20181214
DTEND;VALUE=DATE:20181215
DTSTAMP:20260424T234802
CREATED:20181107T184922Z
LAST-MODIFIED:20190317T020407Z
UID:1693-1544745600-1544831999@www.mergeforequality.org
SUMMARY:Developing Healthy Boys - Coaching
DESCRIPTION:Follow up coaching for Square One
URL:https://www.mergeforequality.org/event/developing-healthy-boys-coaching-3/
LOCATION:MA
CATEGORIES:Archived Events,Trainings and Workshops
END:VEVENT
BEGIN:VEVENT
DTSTART;VALUE=DATE:20181207
DTEND;VALUE=DATE:20181208
DTSTAMP:20260424T234802
CREATED:20181107T185051Z
LAST-MODIFIED:20190317T020407Z
UID:1695-1544140800-1544227199@www.mergeforequality.org
SUMMARY:Developing Healthy Boys - Coaching
DESCRIPTION:Follow up coaching for HCS Head Start
URL:https://www.mergeforequality.org/event/developing-healthy-boys-coaching-4/
LOCATION:MA
CATEGORIES:Archived Events,Trainings and Workshops
END:VEVENT
BEGIN:VEVENT
DTSTART;VALUE=DATE:20181206
DTEND;VALUE=DATE:20181207
DTSTAMP:20260424T234802
CREATED:20181107T185205Z
LAST-MODIFIED:20190317T020407Z
UID:1697-1544054400-1544140799@www.mergeforequality.org
SUMMARY:Developing Healthy Boys - Coaching
DESCRIPTION:Follow up coaching for HCS Head Start
URL:https://www.mergeforequality.org/event/developing-healthy-boys-coaching-5/
LOCATION:MA
CATEGORIES:Archived Events,Trainings and Workshops
END:VEVENT
BEGIN:VEVENT
DTSTART;VALUE=DATE:20181114
DTEND;VALUE=DATE:20181115
DTSTAMP:20260424T234802
CREATED:20181107T184811Z
LAST-MODIFIED:20190317T020407Z
UID:1691-1542153600-1542239999@www.mergeforequality.org
SUMMARY:Developing Healthy Boys - Coaching
DESCRIPTION:Follow up coaching with Square One
URL:https://www.mergeforequality.org/event/developing-healthy-boys-coaching-2/
LOCATION:MA
CATEGORIES:Archived Events,Trainings and Workshops
END:VEVENT
BEGIN:VEVENT
DTSTART;TZID=America/Halifax:20181112T090000
DTEND;TZID=America/Halifax:20181112T150000
DTSTAMP:20260424T234802
CREATED:20181107T184401Z
LAST-MODIFIED:20190317T020407Z
UID:1686-1542013200-1542034800@www.mergeforequality.org
SUMMARY:Developing Healthy Boys Training
DESCRIPTION:
URL:https://www.mergeforequality.org/event/developing-healthy-boys-training/
LOCATION:MA
CATEGORIES:Archived Events,Trainings and Workshops
END:VEVENT
BEGIN:VEVENT
DTSTART;VALUE=DATE:20181109
DTEND;VALUE=DATE:20181110
DTSTAMP:20260424T234802
CREATED:20181107T180611Z
LAST-MODIFIED:20190317T020408Z
UID:1683-1541721600-1541807999@www.mergeforequality.org
SUMMARY:Developing Healthy Boys - Follow up coaching
DESCRIPTION:Follow up coaching with the HCS Head Start
URL:https://www.mergeforequality.org/event/developing-healthy-boys-follow-up-coaching/
LOCATION:MA
CATEGORIES:Archived Events,Trainings and Workshops
END:VEVENT
BEGIN:VEVENT
DTSTART;VALUE=DATE:20181108
DTEND;VALUE=DATE:20181109
DTSTAMP:20260424T234802
CREATED:20181107T184709Z
LAST-MODIFIED:20190317T020408Z
UID:1689-1541635200-1541721599@www.mergeforequality.org
SUMMARY:Developing Healthy Boys - follow up coaching
DESCRIPTION:Follow up coaching with the HCS Head Start
URL:https://www.mergeforequality.org/event/developing-healthy-boys-follow-up-coaching-2/
LOCATION:MA
CATEGORIES:Archived Events,Trainings and Workshops
END:VEVENT
BEGIN:VEVENT
DTSTART;VALUE=DATE:20181107
DTEND;VALUE=DATE:20181108
DTSTAMP:20260424T234802
CREATED:20181107T174631Z
LAST-MODIFIED:20190317T020408Z
UID:1677-1541548800-1541635199@www.mergeforequality.org
SUMMARY:Developing Healthy Boys - Coaching
DESCRIPTION:Follow up coaching session with HCS Head Start
URL:https://www.mergeforequality.org/event/developing-healthy-boys-coaching/
LOCATION:Springfield\, MA\, United States
CATEGORIES:Archived Events,Projects
END:VEVENT
END:VCALENDAR